BEGIN:VCALENDAR
VERSION:2.0
PRODID:-//Schnepf Farms - ECPv6.15.20//NONSGML v1.0//EN
CALSCALE:GREGORIAN
METHOD:PUBLISH
X-WR-CALNAME:Schnepf Farms
X-ORIGINAL-URL:https://schnepffarms.com
X-WR-CALDESC:Events for Schnepf Farms
REFRESH-INTERVAL;VALUE=DURATION:PT1H
X-Robots-Tag:noindex
X-PUBLISHED-TTL:PT1H
BEGIN:VTIMEZONE
TZID:America/Los_Angeles
BEGIN:DAYLIGHT
TZOFFSETFROM:-0800
TZOFFSETTO:-0700
TZNAME:PDT
DTSTART:20220313T100000
END:DAYLIGHT
BEGIN:STANDARD
TZOFFSETFROM:-0700
TZOFFSETTO:-0800
TZNAME:PST
DTSTART:20221106T090000
END:STANDARD
BEGIN:DAYLIGHT
TZOFFSETFROM:-0800
TZOFFSETTO:-0700
TZNAME:PDT
DTSTART:20230312T100000
END:DAYLIGHT
BEGIN:STANDARD
TZOFFSETFROM:-0700
TZOFFSETTO:-0800
TZNAME:PST
DTSTART:20231105T090000
END:STANDARD
BEGIN:DAYLIGHT
TZOFFSETFROM:-0800
TZOFFSETTO:-0700
TZNAME:PDT
DTSTART:20240310T100000
END:DAYLIGHT
BEGIN:STANDARD
TZOFFSETFROM:-0700
TZOFFSETTO:-0800
TZNAME:PST
DTSTART:20241103T090000
END:STANDARD
END:VTIMEZONE
BEGIN:VEVENT
DTSTART;TZID=America/Los_Angeles:20230504T080000
DTEND;TZID=America/Los_Angeles:20230504T160000
DTSTAMP:20260421T110937
CREATED:20230221T001507Z
LAST-MODIFIED:20230315T020306Z
UID:10000038-1683187200-1683216000@schnepffarms.com
SUMMARY:Farm & Bakery
DESCRIPTION:The Farm Park\, Bakery & Country Store is OPEN! \nYou don’t have to wait for a festival to stop in for fresh baked goodies\, pick from the garden\, or to take a train ride. Stop in and relax any Thursday through Sunday. Open every month except August. (During the month of October\, we charge an admission due to the PUMPKIN & CHILI Party\, our premier Farm Festival.) \nIt’s free to come visit \n8am-4pm \nWhat you can do? \n\nTake a train ride\nvisit the UPICK Garden\nEnjoy Breakfast & Lunch (Breakfast 8am to 3pm; lunch begins at 11am)\nVisit the Museum\nShop in the bakery & Country Store\nVisit the petting zoo\nJump on the pillows\nplay on the Ropes Course\nHave fun at the shooting gallery
URL:https://schnepffarms.com/event/farm-bakery/2023-05-04/
LOCATION:Schnepf Farms
CATEGORIES:Featured,Fresh,Fun
ATTACH;FMTTYPE=image/jpeg:https://schnepffarms.com/wp-content/uploads/2023/02/MG_2965-scaled-1-300x200-1.jpg
END:VEVENT
BEGIN:VEVENT
DTSTART;TZID=America/Los_Angeles:20230505T080000
DTEND;TZID=America/Los_Angeles:20230505T160000
DTSTAMP:20260421T110937
CREATED:20230221T001507Z
LAST-MODIFIED:20230315T020306Z
UID:10000039-1683273600-1683302400@schnepffarms.com
SUMMARY:Farm & Bakery
DESCRIPTION:The Farm Park\, Bakery & Country Store is OPEN! \nYou don’t have to wait for a festival to stop in for fresh baked goodies\, pick from the garden\, or to take a train ride. Stop in and relax any Thursday through Sunday. Open every month except August. (During the month of October\, we charge an admission due to the PUMPKIN & CHILI Party\, our premier Farm Festival.) \nIt’s free to come visit \n8am-4pm \nWhat you can do? \n\nTake a train ride\nvisit the UPICK Garden\nEnjoy Breakfast & Lunch (Breakfast 8am to 3pm; lunch begins at 11am)\nVisit the Museum\nShop in the bakery & Country Store\nVisit the petting zoo\nJump on the pillows\nplay on the Ropes Course\nHave fun at the shooting gallery
URL:https://schnepffarms.com/event/farm-bakery/2023-05-05/
LOCATION:Schnepf Farms
CATEGORIES:Featured,Fresh,Fun
ATTACH;FMTTYPE=image/jpeg:https://schnepffarms.com/wp-content/uploads/2023/02/MG_2965-scaled-1-300x200-1.jpg
END:VEVENT
BEGIN:VEVENT
DTSTART;TZID=America/Los_Angeles:20230506T080000
DTEND;TZID=America/Los_Angeles:20230506T160000
DTSTAMP:20260421T110937
CREATED:20230221T001507Z
LAST-MODIFIED:20230315T020306Z
UID:10000040-1683360000-1683388800@schnepffarms.com
SUMMARY:Farm & Bakery
DESCRIPTION:The Farm Park\, Bakery & Country Store is OPEN! \nYou don’t have to wait for a festival to stop in for fresh baked goodies\, pick from the garden\, or to take a train ride. Stop in and relax any Thursday through Sunday. Open every month except August. (During the month of October\, we charge an admission due to the PUMPKIN & CHILI Party\, our premier Farm Festival.) \nIt’s free to come visit \n8am-4pm \nWhat you can do? \n\nTake a train ride\nvisit the UPICK Garden\nEnjoy Breakfast & Lunch (Breakfast 8am to 3pm; lunch begins at 11am)\nVisit the Museum\nShop in the bakery & Country Store\nVisit the petting zoo\nJump on the pillows\nplay on the Ropes Course\nHave fun at the shooting gallery
URL:https://schnepffarms.com/event/farm-bakery/2023-05-06/
LOCATION:Schnepf Farms
CATEGORIES:Featured,Fresh,Fun
ATTACH;FMTTYPE=image/jpeg:https://schnepffarms.com/wp-content/uploads/2023/02/MG_2965-scaled-1-300x200-1.jpg
END:VEVENT
BEGIN:VEVENT
DTSTART;TZID=America/Los_Angeles:20230507T080000
DTEND;TZID=America/Los_Angeles:20230507T160000
DTSTAMP:20260421T110937
CREATED:20230221T001507Z
LAST-MODIFIED:20230315T020306Z
UID:10000041-1683446400-1683475200@schnepffarms.com
SUMMARY:Farm & Bakery
DESCRIPTION:The Farm Park\, Bakery & Country Store is OPEN! \nYou don’t have to wait for a festival to stop in for fresh baked goodies\, pick from the garden\, or to take a train ride. Stop in and relax any Thursday through Sunday. Open every month except August. (During the month of October\, we charge an admission due to the PUMPKIN & CHILI Party\, our premier Farm Festival.) \nIt’s free to come visit \n8am-4pm \nWhat you can do? \n\nTake a train ride\nvisit the UPICK Garden\nEnjoy Breakfast & Lunch (Breakfast 8am to 3pm; lunch begins at 11am)\nVisit the Museum\nShop in the bakery & Country Store\nVisit the petting zoo\nJump on the pillows\nplay on the Ropes Course\nHave fun at the shooting gallery
URL:https://schnepffarms.com/event/farm-bakery/2023-05-07/
LOCATION:Schnepf Farms
CATEGORIES:Featured,Fresh,Fun
ATTACH;FMTTYPE=image/jpeg:https://schnepffarms.com/wp-content/uploads/2023/02/MG_2965-scaled-1-300x200-1.jpg
END:VEVENT
BEGIN:VEVENT
DTSTART;TZID=America/Los_Angeles:20230511T080000
DTEND;TZID=America/Los_Angeles:20230511T160000
DTSTAMP:20260421T110937
CREATED:20230221T001507Z
LAST-MODIFIED:20230315T020306Z
UID:10000042-1683792000-1683820800@schnepffarms.com
SUMMARY:Farm & Bakery
DESCRIPTION:The Farm Park\, Bakery & Country Store is OPEN! \nYou don’t have to wait for a festival to stop in for fresh baked goodies\, pick from the garden\, or to take a train ride. Stop in and relax any Thursday through Sunday. Open every month except August. (During the month of October\, we charge an admission due to the PUMPKIN & CHILI Party\, our premier Farm Festival.) \nIt’s free to come visit \n8am-4pm \nWhat you can do? \n\nTake a train ride\nvisit the UPICK Garden\nEnjoy Breakfast & Lunch (Breakfast 8am to 3pm; lunch begins at 11am)\nVisit the Museum\nShop in the bakery & Country Store\nVisit the petting zoo\nJump on the pillows\nplay on the Ropes Course\nHave fun at the shooting gallery
URL:https://schnepffarms.com/event/farm-bakery/2023-05-11/
LOCATION:Schnepf Farms
CATEGORIES:Featured,Fresh,Fun
ATTACH;FMTTYPE=image/jpeg:https://schnepffarms.com/wp-content/uploads/2023/02/MG_2965-scaled-1-300x200-1.jpg
END:VEVENT
BEGIN:VEVENT
DTSTART;TZID=America/Los_Angeles:20230512T080000
DTEND;TZID=America/Los_Angeles:20230512T160000
DTSTAMP:20260421T110937
CREATED:20230221T001507Z
LAST-MODIFIED:20230315T020306Z
UID:10000043-1683878400-1683907200@schnepffarms.com
SUMMARY:Farm & Bakery
DESCRIPTION:The Farm Park\, Bakery & Country Store is OPEN! \nYou don’t have to wait for a festival to stop in for fresh baked goodies\, pick from the garden\, or to take a train ride. Stop in and relax any Thursday through Sunday. Open every month except August. (During the month of October\, we charge an admission due to the PUMPKIN & CHILI Party\, our premier Farm Festival.) \nIt’s free to come visit \n8am-4pm \nWhat you can do? \n\nTake a train ride\nvisit the UPICK Garden\nEnjoy Breakfast & Lunch (Breakfast 8am to 3pm; lunch begins at 11am)\nVisit the Museum\nShop in the bakery & Country Store\nVisit the petting zoo\nJump on the pillows\nplay on the Ropes Course\nHave fun at the shooting gallery
URL:https://schnepffarms.com/event/farm-bakery/2023-05-12/
LOCATION:Schnepf Farms
CATEGORIES:Featured,Fresh,Fun
ATTACH;FMTTYPE=image/jpeg:https://schnepffarms.com/wp-content/uploads/2023/02/MG_2965-scaled-1-300x200-1.jpg
END:VEVENT
BEGIN:VEVENT
DTSTART;TZID=America/Los_Angeles:20230513T080000
DTEND;TZID=America/Los_Angeles:20230513T160000
DTSTAMP:20260421T110937
CREATED:20230221T001507Z
LAST-MODIFIED:20230315T020306Z
UID:10000044-1683964800-1683993600@schnepffarms.com
SUMMARY:Farm & Bakery
DESCRIPTION:The Farm Park\, Bakery & Country Store is OPEN! \nYou don’t have to wait for a festival to stop in for fresh baked goodies\, pick from the garden\, or to take a train ride. Stop in and relax any Thursday through Sunday. Open every month except August. (During the month of October\, we charge an admission due to the PUMPKIN & CHILI Party\, our premier Farm Festival.) \nIt’s free to come visit \n8am-4pm \nWhat you can do? \n\nTake a train ride\nvisit the UPICK Garden\nEnjoy Breakfast & Lunch (Breakfast 8am to 3pm; lunch begins at 11am)\nVisit the Museum\nShop in the bakery & Country Store\nVisit the petting zoo\nJump on the pillows\nplay on the Ropes Course\nHave fun at the shooting gallery
URL:https://schnepffarms.com/event/farm-bakery/2023-05-13/
LOCATION:Schnepf Farms
CATEGORIES:Featured,Fresh,Fun
ATTACH;FMTTYPE=image/jpeg:https://schnepffarms.com/wp-content/uploads/2023/02/MG_2965-scaled-1-300x200-1.jpg
END:VEVENT
BEGIN:VEVENT
DTSTART;TZID=America/Los_Angeles:20230514T080000
DTEND;TZID=America/Los_Angeles:20230514T160000
DTSTAMP:20260421T110937
CREATED:20230221T001507Z
LAST-MODIFIED:20230315T020306Z
UID:10000045-1684051200-1684080000@schnepffarms.com
SUMMARY:Farm & Bakery
DESCRIPTION:The Farm Park\, Bakery & Country Store is OPEN! \nYou don’t have to wait for a festival to stop in for fresh baked goodies\, pick from the garden\, or to take a train ride. Stop in and relax any Thursday through Sunday. Open every month except August. (During the month of October\, we charge an admission due to the PUMPKIN & CHILI Party\, our premier Farm Festival.) \nIt’s free to come visit \n8am-4pm \nWhat you can do? \n\nTake a train ride\nvisit the UPICK Garden\nEnjoy Breakfast & Lunch (Breakfast 8am to 3pm; lunch begins at 11am)\nVisit the Museum\nShop in the bakery & Country Store\nVisit the petting zoo\nJump on the pillows\nplay on the Ropes Course\nHave fun at the shooting gallery
URL:https://schnepffarms.com/event/farm-bakery/2023-05-14/
LOCATION:Schnepf Farms
CATEGORIES:Featured,Fresh,Fun
ATTACH;FMTTYPE=image/jpeg:https://schnepffarms.com/wp-content/uploads/2023/02/MG_2965-scaled-1-300x200-1.jpg
END:VEVENT
BEGIN:VEVENT
DTSTART;TZID=America/Los_Angeles:20230518T080000
DTEND;TZID=America/Los_Angeles:20230518T160000
DTSTAMP:20260421T110937
CREATED:20230221T001507Z
LAST-MODIFIED:20230315T020306Z
UID:10000046-1684396800-1684425600@schnepffarms.com
SUMMARY:Farm & Bakery
DESCRIPTION:The Farm Park\, Bakery & Country Store is OPEN! \nYou don’t have to wait for a festival to stop in for fresh baked goodies\, pick from the garden\, or to take a train ride. Stop in and relax any Thursday through Sunday. Open every month except August. (During the month of October\, we charge an admission due to the PUMPKIN & CHILI Party\, our premier Farm Festival.) \nIt’s free to come visit \n8am-4pm \nWhat you can do? \n\nTake a train ride\nvisit the UPICK Garden\nEnjoy Breakfast & Lunch (Breakfast 8am to 3pm; lunch begins at 11am)\nVisit the Museum\nShop in the bakery & Country Store\nVisit the petting zoo\nJump on the pillows\nplay on the Ropes Course\nHave fun at the shooting gallery
URL:https://schnepffarms.com/event/farm-bakery/2023-05-18/
LOCATION:Schnepf Farms
CATEGORIES:Featured,Fresh,Fun
ATTACH;FMTTYPE=image/jpeg:https://schnepffarms.com/wp-content/uploads/2023/02/MG_2965-scaled-1-300x200-1.jpg
END:VEVENT
BEGIN:VEVENT
DTSTART;TZID=America/Los_Angeles:20230519T080000
DTEND;TZID=America/Los_Angeles:20230519T160000
DTSTAMP:20260421T110937
CREATED:20230221T001507Z
LAST-MODIFIED:20230315T020306Z
UID:10000047-1684483200-1684512000@schnepffarms.com
SUMMARY:Farm & Bakery
DESCRIPTION:The Farm Park\, Bakery & Country Store is OPEN! \nYou don’t have to wait for a festival to stop in for fresh baked goodies\, pick from the garden\, or to take a train ride. Stop in and relax any Thursday through Sunday. Open every month except August. (During the month of October\, we charge an admission due to the PUMPKIN & CHILI Party\, our premier Farm Festival.) \nIt’s free to come visit \n8am-4pm \nWhat you can do? \n\nTake a train ride\nvisit the UPICK Garden\nEnjoy Breakfast & Lunch (Breakfast 8am to 3pm; lunch begins at 11am)\nVisit the Museum\nShop in the bakery & Country Store\nVisit the petting zoo\nJump on the pillows\nplay on the Ropes Course\nHave fun at the shooting gallery
URL:https://schnepffarms.com/event/farm-bakery/2023-05-19/
LOCATION:Schnepf Farms
CATEGORIES:Featured,Fresh,Fun
ATTACH;FMTTYPE=image/jpeg:https://schnepffarms.com/wp-content/uploads/2023/02/MG_2965-scaled-1-300x200-1.jpg
END:VEVENT
BEGIN:VEVENT
DTSTART;TZID=America/Los_Angeles:20230520T080000
DTEND;TZID=America/Los_Angeles:20230520T160000
DTSTAMP:20260421T110937
CREATED:20230221T001507Z
LAST-MODIFIED:20230315T020306Z
UID:10000048-1684569600-1684598400@schnepffarms.com
SUMMARY:Farm & Bakery
DESCRIPTION:The Farm Park\, Bakery & Country Store is OPEN! \nYou don’t have to wait for a festival to stop in for fresh baked goodies\, pick from the garden\, or to take a train ride. Stop in and relax any Thursday through Sunday. Open every month except August. (During the month of October\, we charge an admission due to the PUMPKIN & CHILI Party\, our premier Farm Festival.) \nIt’s free to come visit \n8am-4pm \nWhat you can do? \n\nTake a train ride\nvisit the UPICK Garden\nEnjoy Breakfast & Lunch (Breakfast 8am to 3pm; lunch begins at 11am)\nVisit the Museum\nShop in the bakery & Country Store\nVisit the petting zoo\nJump on the pillows\nplay on the Ropes Course\nHave fun at the shooting gallery
URL:https://schnepffarms.com/event/farm-bakery/2023-05-20/
LOCATION:Schnepf Farms
CATEGORIES:Featured,Fresh,Fun
ATTACH;FMTTYPE=image/jpeg:https://schnepffarms.com/wp-content/uploads/2023/02/MG_2965-scaled-1-300x200-1.jpg
END:VEVENT
BEGIN:VEVENT
DTSTART;TZID=America/Los_Angeles:20230521T080000
DTEND;TZID=America/Los_Angeles:20230521T160000
DTSTAMP:20260421T110937
CREATED:20230221T001507Z
LAST-MODIFIED:20230315T020306Z
UID:10000049-1684656000-1684684800@schnepffarms.com
SUMMARY:Farm & Bakery
DESCRIPTION:The Farm Park\, Bakery & Country Store is OPEN! \nYou don’t have to wait for a festival to stop in for fresh baked goodies\, pick from the garden\, or to take a train ride. Stop in and relax any Thursday through Sunday. Open every month except August. (During the month of October\, we charge an admission due to the PUMPKIN & CHILI Party\, our premier Farm Festival.) \nIt’s free to come visit \n8am-4pm \nWhat you can do? \n\nTake a train ride\nvisit the UPICK Garden\nEnjoy Breakfast & Lunch (Breakfast 8am to 3pm; lunch begins at 11am)\nVisit the Museum\nShop in the bakery & Country Store\nVisit the petting zoo\nJump on the pillows\nplay on the Ropes Course\nHave fun at the shooting gallery
URL:https://schnepffarms.com/event/farm-bakery/2023-05-21/
LOCATION:Schnepf Farms
CATEGORIES:Featured,Fresh,Fun
ATTACH;FMTTYPE=image/jpeg:https://schnepffarms.com/wp-content/uploads/2023/02/MG_2965-scaled-1-300x200-1.jpg
END:VEVENT
BEGIN:VEVENT
DTSTART;TZID=America/Los_Angeles:20230525T080000
DTEND;TZID=America/Los_Angeles:20230525T160000
DTSTAMP:20260421T110937
CREATED:20230221T001507Z
LAST-MODIFIED:20230315T020306Z
UID:10000050-1685001600-1685030400@schnepffarms.com
SUMMARY:Farm & Bakery
DESCRIPTION:The Farm Park\, Bakery & Country Store is OPEN! \nYou don’t have to wait for a festival to stop in for fresh baked goodies\, pick from the garden\, or to take a train ride. Stop in and relax any Thursday through Sunday. Open every month except August. (During the month of October\, we charge an admission due to the PUMPKIN & CHILI Party\, our premier Farm Festival.) \nIt’s free to come visit \n8am-4pm \nWhat you can do? \n\nTake a train ride\nvisit the UPICK Garden\nEnjoy Breakfast & Lunch (Breakfast 8am to 3pm; lunch begins at 11am)\nVisit the Museum\nShop in the bakery & Country Store\nVisit the petting zoo\nJump on the pillows\nplay on the Ropes Course\nHave fun at the shooting gallery
URL:https://schnepffarms.com/event/farm-bakery/2023-05-25/
LOCATION:Schnepf Farms
CATEGORIES:Featured,Fresh,Fun
ATTACH;FMTTYPE=image/jpeg:https://schnepffarms.com/wp-content/uploads/2023/02/MG_2965-scaled-1-300x200-1.jpg
END:VEVENT
BEGIN:VEVENT
DTSTART;TZID=America/Los_Angeles:20230526T080000
DTEND;TZID=America/Los_Angeles:20230526T160000
DTSTAMP:20260421T110937
CREATED:20230221T001507Z
LAST-MODIFIED:20230315T020306Z
UID:10000051-1685088000-1685116800@schnepffarms.com
SUMMARY:Farm & Bakery
DESCRIPTION:The Farm Park\, Bakery & Country Store is OPEN! \nYou don’t have to wait for a festival to stop in for fresh baked goodies\, pick from the garden\, or to take a train ride. Stop in and relax any Thursday through Sunday. Open every month except August. (During the month of October\, we charge an admission due to the PUMPKIN & CHILI Party\, our premier Farm Festival.) \nIt’s free to come visit \n8am-4pm \nWhat you can do? \n\nTake a train ride\nvisit the UPICK Garden\nEnjoy Breakfast & Lunch (Breakfast 8am to 3pm; lunch begins at 11am)\nVisit the Museum\nShop in the bakery & Country Store\nVisit the petting zoo\nJump on the pillows\nplay on the Ropes Course\nHave fun at the shooting gallery
URL:https://schnepffarms.com/event/farm-bakery/2023-05-26/
LOCATION:Schnepf Farms
CATEGORIES:Featured,Fresh,Fun
ATTACH;FMTTYPE=image/jpeg:https://schnepffarms.com/wp-content/uploads/2023/02/MG_2965-scaled-1-300x200-1.jpg
END:VEVENT
BEGIN:VEVENT
DTSTART;TZID=America/Los_Angeles:20230527T080000
DTEND;TZID=America/Los_Angeles:20230527T160000
DTSTAMP:20260421T110937
CREATED:20230221T001507Z
LAST-MODIFIED:20230315T020306Z
UID:10000052-1685174400-1685203200@schnepffarms.com
SUMMARY:Farm & Bakery
DESCRIPTION:The Farm Park\, Bakery & Country Store is OPEN! \nYou don’t have to wait for a festival to stop in for fresh baked goodies\, pick from the garden\, or to take a train ride. Stop in and relax any Thursday through Sunday. Open every month except August. (During the month of October\, we charge an admission due to the PUMPKIN & CHILI Party\, our premier Farm Festival.) \nIt’s free to come visit \n8am-4pm \nWhat you can do? \n\nTake a train ride\nvisit the UPICK Garden\nEnjoy Breakfast & Lunch (Breakfast 8am to 3pm; lunch begins at 11am)\nVisit the Museum\nShop in the bakery & Country Store\nVisit the petting zoo\nJump on the pillows\nplay on the Ropes Course\nHave fun at the shooting gallery
URL:https://schnepffarms.com/event/farm-bakery/2023-05-27/
LOCATION:Schnepf Farms
CATEGORIES:Featured,Fresh,Fun
ATTACH;FMTTYPE=image/jpeg:https://schnepffarms.com/wp-content/uploads/2023/02/MG_2965-scaled-1-300x200-1.jpg
END:VEVENT
BEGIN:VEVENT
DTSTART;TZID=America/Los_Angeles:20230528T080000
DTEND;TZID=America/Los_Angeles:20230528T160000
DTSTAMP:20260421T110937
CREATED:20230221T001507Z
LAST-MODIFIED:20230315T020306Z
UID:10000053-1685260800-1685289600@schnepffarms.com
SUMMARY:Farm & Bakery
DESCRIPTION:The Farm Park\, Bakery & Country Store is OPEN! \nYou don’t have to wait for a festival to stop in for fresh baked goodies\, pick from the garden\, or to take a train ride. Stop in and relax any Thursday through Sunday. Open every month except August. (During the month of October\, we charge an admission due to the PUMPKIN & CHILI Party\, our premier Farm Festival.) \nIt’s free to come visit \n8am-4pm \nWhat you can do? \n\nTake a train ride\nvisit the UPICK Garden\nEnjoy Breakfast & Lunch (Breakfast 8am to 3pm; lunch begins at 11am)\nVisit the Museum\nShop in the bakery & Country Store\nVisit the petting zoo\nJump on the pillows\nplay on the Ropes Course\nHave fun at the shooting gallery
URL:https://schnepffarms.com/event/farm-bakery/2023-05-28/
LOCATION:Schnepf Farms
CATEGORIES:Featured,Fresh,Fun
ATTACH;FMTTYPE=image/jpeg:https://schnepffarms.com/wp-content/uploads/2023/02/MG_2965-scaled-1-300x200-1.jpg
END:VEVENT
END:VCALENDAR