BEGIN:VCALENDAR
VERSION:2.0
PRODID:-//Schnepf Farms - ECPv6.15.20//NONSGML v1.0//EN
CALSCALE:GREGORIAN
METHOD:PUBLISH
X-WR-CALNAME:Schnepf Farms
X-ORIGINAL-URL:https://schnepffarms.com
X-WR-CALDESC:Events for Schnepf Farms
REFRESH-INTERVAL;VALUE=DURATION:PT1H
X-Robots-Tag:noindex
X-PUBLISHED-TTL:PT1H
BEGIN:VTIMEZONE
TZID:America/Phoenix
BEGIN:STANDARD
TZOFFSETFROM:-0700
TZOFFSETTO:-0700
TZNAME:MST
DTSTART:20220101T000000
END:STANDARD
END:VTIMEZONE
BEGIN:VEVENT
DTSTART;TZID=America/Phoenix:20230323T100000
DTEND;TZID=America/Phoenix:20230323T110000
DTSTAMP:20260425T040722
CREATED:20230309T151735Z
LAST-MODIFIED:20230309T151735Z
UID:10000005-1679565600-1679569200@schnepffarms.com
SUMMARY:VIP Farm Tours by Michelle
DESCRIPTION:Do you want to see the farm and all it has to offer? Queen Creek Resident\, Michelle Chisholm\, will be doing personal behind the scenes tours every Thursday. There are limited spaces\, make your reservation HERE \nFREE – There is no charge \nTour includes: \n\nStop in the bakery\nVisit to the Museum\nVisit the farms 3 wedding venues\nStop in at the Cozy Peach\, Airstream glamping\nHear the history\nSee the UPICK Garden and peach orchards\n\nTour takes about 45 minutes \n\nReserve your spot Now \nSell tickets online with Ticketleap\n\n 
URL:https://schnepffarms.com/event/vip-farm-tours-by-michelle/
LOCATION:Schnepf Farms\, 24810 S Rittenhouse\, Queen Creek\, AZ\, 85142\, United States
CATEGORIES:Fresh,Fun
ATTACH;FMTTYPE=image/jpeg:https://schnepffarms.com/wp-content/uploads/2023/03/MG_8980-300x300-1.jpg
END:VEVENT
END:VCALENDAR