BEGIN:VCALENDAR
VERSION:2.0
PRODID:-//Schnepf Farms - ECPv6.15.20//NONSGML v1.0//EN
CALSCALE:GREGORIAN
METHOD:PUBLISH
X-ORIGINAL-URL:https://schnepffarms.com
X-WR-CALDESC:Events for Schnepf Farms
REFRESH-INTERVAL;VALUE=DURATION:PT1H
X-Robots-Tag:noindex
X-PUBLISHED-TTL:PT1H
BEGIN:VTIMEZONE
TZID:America/Los_Angeles
BEGIN:DAYLIGHT
TZOFFSETFROM:-0800
TZOFFSETTO:-0700
TZNAME:PDT
DTSTART:20220313T100000
END:DAYLIGHT
BEGIN:STANDARD
TZOFFSETFROM:-0700
TZOFFSETTO:-0800
TZNAME:PST
DTSTART:20221106T090000
END:STANDARD
BEGIN:DAYLIGHT
TZOFFSETFROM:-0800
TZOFFSETTO:-0700
TZNAME:PDT
DTSTART:20230312T100000
END:DAYLIGHT
BEGIN:STANDARD
TZOFFSETFROM:-0700
TZOFFSETTO:-0800
TZNAME:PST
DTSTART:20231105T090000
END:STANDARD
BEGIN:DAYLIGHT
TZOFFSETFROM:-0800
TZOFFSETTO:-0700
TZNAME:PDT
DTSTART:20240310T100000
END:DAYLIGHT
BEGIN:STANDARD
TZOFFSETFROM:-0700
TZOFFSETTO:-0800
TZNAME:PST
DTSTART:20241103T090000
END:STANDARD
END:VTIMEZONE
BEGIN:VEVENT
DTSTART;TZID=America/Los_Angeles:20230630T080000
DTEND;TZID=America/Los_Angeles:20230630T160000
DTSTAMP:20260421T153712
CREATED:20230221T001507Z
LAST-MODIFIED:20230315T020306Z
UID:10000071-1688112000-1688140800@schnepffarms.com
SUMMARY:Farm & Bakery
DESCRIPTION:The Farm Park\, Bakery & Country Store is OPEN! \nYou don’t have to wait for a festival to stop in for fresh baked goodies\, pick from the garden\, or to take a train ride. Stop in and relax any Thursday through Sunday. Open every month except August. (During the month of October\, we charge an admission due to the PUMPKIN & CHILI Party\, our premier Farm Festival.) \nIt’s free to come visit \n8am-4pm \nWhat you can do? \n\nTake a train ride\nvisit the UPICK Garden\nEnjoy Breakfast & Lunch (Breakfast 8am to 3pm; lunch begins at 11am)\nVisit the Museum\nShop in the bakery & Country Store\nVisit the petting zoo\nJump on the pillows\nplay on the Ropes Course\nHave fun at the shooting gallery
URL:https://schnepffarms.com/event/farm-bakery/2023-06-30/
LOCATION:Schnepf Farms
CATEGORIES:Featured,Fresh,Fun
ATTACH;FMTTYPE=image/jpeg:https://schnepffarms.com/wp-content/uploads/2023/02/MG_2965-scaled-1-300x200-1.jpg
END:VEVENT
END:VCALENDAR