BEGIN:VCALENDAR
VERSION:2.0
PRODID:-//Schnepf Farms - ECPv6.15.20//NONSGML v1.0//EN
CALSCALE:GREGORIAN
METHOD:PUBLISH
X-ORIGINAL-URL:https://schnepffarms.com
X-WR-CALDESC:Events for Schnepf Farms
REFRESH-INTERVAL;VALUE=DURATION:PT1H
X-Robots-Tag:noindex
X-PUBLISHED-TTL:PT1H
BEGIN:VTIMEZONE
TZID:America/Los_Angeles
BEGIN:DAYLIGHT
TZOFFSETFROM:-0800
TZOFFSETTO:-0700
TZNAME:PDT
DTSTART:20220313T100000
END:DAYLIGHT
BEGIN:STANDARD
TZOFFSETFROM:-0700
TZOFFSETTO:-0800
TZNAME:PST
DTSTART:20221106T090000
END:STANDARD
BEGIN:DAYLIGHT
TZOFFSETFROM:-0800
TZOFFSETTO:-0700
TZNAME:PDT
DTSTART:20230312T100000
END:DAYLIGHT
BEGIN:STANDARD
TZOFFSETFROM:-0700
TZOFFSETTO:-0800
TZNAME:PST
DTSTART:20231105T090000
END:STANDARD
BEGIN:DAYLIGHT
TZOFFSETFROM:-0800
TZOFFSETTO:-0700
TZNAME:PDT
DTSTART:20240310T100000
END:DAYLIGHT
BEGIN:STANDARD
TZOFFSETFROM:-0700
TZOFFSETTO:-0800
TZNAME:PST
DTSTART:20241103T090000
END:STANDARD
END:VTIMEZONE
BEGIN:VEVENT
DTSTART;TZID=America/Los_Angeles:20230309T080000
DTEND;TZID=America/Los_Angeles:20230309T160000
DTSTAMP:20260421T190335
CREATED:20230221T001507Z
LAST-MODIFIED:20230315T020306Z
UID:10000002-1678348800-1678377600@schnepffarms.com
SUMMARY:Farm & Bakery
DESCRIPTION:The Farm Park\, Bakery & Country Store is OPEN! \nYou don’t have to wait for a festival to stop in for fresh baked goodies\, pick from the garden\, or to take a train ride. Stop in and relax any Thursday through Sunday. Open every month except August. (During the month of October\, we charge an admission due to the PUMPKIN & CHILI Party\, our premier Farm Festival.) \nIt’s free to come visit \n8am-4pm \nWhat you can do? \n\nTake a train ride\nvisit the UPICK Garden\nEnjoy Breakfast & Lunch (Breakfast 8am to 3pm; lunch begins at 11am)\nVisit the Museum\nShop in the bakery & Country Store\nVisit the petting zoo\nJump on the pillows\nplay on the Ropes Course\nHave fun at the shooting gallery
URL:https://schnepffarms.com/event/farm-bakery/2023-03-09/
LOCATION:Schnepf Farms
CATEGORIES:Featured,Fresh,Fun
ATTACH;FMTTYPE=image/jpeg:https://schnepffarms.com/wp-content/uploads/2023/02/MG_2965-scaled-1-300x200-1.jpg
END:VEVENT
BEGIN:VEVENT
DTSTART;TZID=America/Los_Angeles:20230310T080000
DTEND;TZID=America/Los_Angeles:20230310T160000
DTSTAMP:20260421T190335
CREATED:20230221T001507Z
LAST-MODIFIED:20230315T020306Z
UID:10000007-1678435200-1678464000@schnepffarms.com
SUMMARY:Farm & Bakery
DESCRIPTION:The Farm Park\, Bakery & Country Store is OPEN! \nYou don’t have to wait for a festival to stop in for fresh baked goodies\, pick from the garden\, or to take a train ride. Stop in and relax any Thursday through Sunday. Open every month except August. (During the month of October\, we charge an admission due to the PUMPKIN & CHILI Party\, our premier Farm Festival.) \nIt’s free to come visit \n8am-4pm \nWhat you can do? \n\nTake a train ride\nvisit the UPICK Garden\nEnjoy Breakfast & Lunch (Breakfast 8am to 3pm; lunch begins at 11am)\nVisit the Museum\nShop in the bakery & Country Store\nVisit the petting zoo\nJump on the pillows\nplay on the Ropes Course\nHave fun at the shooting gallery
URL:https://schnepffarms.com/event/farm-bakery/2023-03-10/
LOCATION:Schnepf Farms
CATEGORIES:Featured,Fresh,Fun
ATTACH;FMTTYPE=image/jpeg:https://schnepffarms.com/wp-content/uploads/2023/02/MG_2965-scaled-1-300x200-1.jpg
END:VEVENT
BEGIN:VEVENT
DTSTART;TZID=America/Los_Angeles:20230311T080000
DTEND;TZID=America/Los_Angeles:20230311T160000
DTSTAMP:20260421T190335
CREATED:20230221T001507Z
LAST-MODIFIED:20230315T020306Z
UID:10000008-1678521600-1678550400@schnepffarms.com
SUMMARY:Farm & Bakery
DESCRIPTION:The Farm Park\, Bakery & Country Store is OPEN! \nYou don’t have to wait for a festival to stop in for fresh baked goodies\, pick from the garden\, or to take a train ride. Stop in and relax any Thursday through Sunday. Open every month except August. (During the month of October\, we charge an admission due to the PUMPKIN & CHILI Party\, our premier Farm Festival.) \nIt’s free to come visit \n8am-4pm \nWhat you can do? \n\nTake a train ride\nvisit the UPICK Garden\nEnjoy Breakfast & Lunch (Breakfast 8am to 3pm; lunch begins at 11am)\nVisit the Museum\nShop in the bakery & Country Store\nVisit the petting zoo\nJump on the pillows\nplay on the Ropes Course\nHave fun at the shooting gallery
URL:https://schnepffarms.com/event/farm-bakery/2023-03-11/
LOCATION:Schnepf Farms
CATEGORIES:Featured,Fresh,Fun
ATTACH;FMTTYPE=image/jpeg:https://schnepffarms.com/wp-content/uploads/2023/02/MG_2965-scaled-1-300x200-1.jpg
END:VEVENT
BEGIN:VEVENT
DTSTART;TZID=America/Los_Angeles:20230312T080000
DTEND;TZID=America/Los_Angeles:20230312T160000
DTSTAMP:20260421T190335
CREATED:20230221T001507Z
LAST-MODIFIED:20230315T020306Z
UID:10000009-1678608000-1678636800@schnepffarms.com
SUMMARY:Farm & Bakery
DESCRIPTION:The Farm Park\, Bakery & Country Store is OPEN! \nYou don’t have to wait for a festival to stop in for fresh baked goodies\, pick from the garden\, or to take a train ride. Stop in and relax any Thursday through Sunday. Open every month except August. (During the month of October\, we charge an admission due to the PUMPKIN & CHILI Party\, our premier Farm Festival.) \nIt’s free to come visit \n8am-4pm \nWhat you can do? \n\nTake a train ride\nvisit the UPICK Garden\nEnjoy Breakfast & Lunch (Breakfast 8am to 3pm; lunch begins at 11am)\nVisit the Museum\nShop in the bakery & Country Store\nVisit the petting zoo\nJump on the pillows\nplay on the Ropes Course\nHave fun at the shooting gallery
URL:https://schnepffarms.com/event/farm-bakery/2023-03-12/
LOCATION:Schnepf Farms
CATEGORIES:Featured,Fresh,Fun
ATTACH;FMTTYPE=image/jpeg:https://schnepffarms.com/wp-content/uploads/2023/02/MG_2965-scaled-1-300x200-1.jpg
END:VEVENT
BEGIN:VEVENT
DTSTART;TZID=America/Los_Angeles:20230316T080000
DTEND;TZID=America/Los_Angeles:20230316T160000
DTSTAMP:20260421T190335
CREATED:20230221T001507Z
LAST-MODIFIED:20230315T020306Z
UID:10000010-1678953600-1678982400@schnepffarms.com
SUMMARY:Farm & Bakery
DESCRIPTION:The Farm Park\, Bakery & Country Store is OPEN! \nYou don’t have to wait for a festival to stop in for fresh baked goodies\, pick from the garden\, or to take a train ride. Stop in and relax any Thursday through Sunday. Open every month except August. (During the month of October\, we charge an admission due to the PUMPKIN & CHILI Party\, our premier Farm Festival.) \nIt’s free to come visit \n8am-4pm \nWhat you can do? \n\nTake a train ride\nvisit the UPICK Garden\nEnjoy Breakfast & Lunch (Breakfast 8am to 3pm; lunch begins at 11am)\nVisit the Museum\nShop in the bakery & Country Store\nVisit the petting zoo\nJump on the pillows\nplay on the Ropes Course\nHave fun at the shooting gallery
URL:https://schnepffarms.com/event/farm-bakery/2023-03-16/
LOCATION:Schnepf Farms
CATEGORIES:Featured,Fresh,Fun
ATTACH;FMTTYPE=image/jpeg:https://schnepffarms.com/wp-content/uploads/2023/02/MG_2965-scaled-1-300x200-1.jpg
END:VEVENT
BEGIN:VEVENT
DTSTART;TZID=America/Los_Angeles:20230317T080000
DTEND;TZID=America/Los_Angeles:20230317T160000
DTSTAMP:20260421T190335
CREATED:20230221T001507Z
LAST-MODIFIED:20230315T020306Z
UID:10000011-1679040000-1679068800@schnepffarms.com
SUMMARY:Farm & Bakery
DESCRIPTION:The Farm Park\, Bakery & Country Store is OPEN! \nYou don’t have to wait for a festival to stop in for fresh baked goodies\, pick from the garden\, or to take a train ride. Stop in and relax any Thursday through Sunday. Open every month except August. (During the month of October\, we charge an admission due to the PUMPKIN & CHILI Party\, our premier Farm Festival.) \nIt’s free to come visit \n8am-4pm \nWhat you can do? \n\nTake a train ride\nvisit the UPICK Garden\nEnjoy Breakfast & Lunch (Breakfast 8am to 3pm; lunch begins at 11am)\nVisit the Museum\nShop in the bakery & Country Store\nVisit the petting zoo\nJump on the pillows\nplay on the Ropes Course\nHave fun at the shooting gallery
URL:https://schnepffarms.com/event/farm-bakery/2023-03-17/
LOCATION:Schnepf Farms
CATEGORIES:Featured,Fresh,Fun
ATTACH;FMTTYPE=image/jpeg:https://schnepffarms.com/wp-content/uploads/2023/02/MG_2965-scaled-1-300x200-1.jpg
END:VEVENT
BEGIN:VEVENT
DTSTART;TZID=America/Los_Angeles:20230318T080000
DTEND;TZID=America/Los_Angeles:20230318T160000
DTSTAMP:20260421T190335
CREATED:20230221T001507Z
LAST-MODIFIED:20230315T020306Z
UID:10000012-1679126400-1679155200@schnepffarms.com
SUMMARY:Farm & Bakery
DESCRIPTION:The Farm Park\, Bakery & Country Store is OPEN! \nYou don’t have to wait for a festival to stop in for fresh baked goodies\, pick from the garden\, or to take a train ride. Stop in and relax any Thursday through Sunday. Open every month except August. (During the month of October\, we charge an admission due to the PUMPKIN & CHILI Party\, our premier Farm Festival.) \nIt’s free to come visit \n8am-4pm \nWhat you can do? \n\nTake a train ride\nvisit the UPICK Garden\nEnjoy Breakfast & Lunch (Breakfast 8am to 3pm; lunch begins at 11am)\nVisit the Museum\nShop in the bakery & Country Store\nVisit the petting zoo\nJump on the pillows\nplay on the Ropes Course\nHave fun at the shooting gallery
URL:https://schnepffarms.com/event/farm-bakery/2023-03-18/
LOCATION:Schnepf Farms
CATEGORIES:Featured,Fresh,Fun
ATTACH;FMTTYPE=image/jpeg:https://schnepffarms.com/wp-content/uploads/2023/02/MG_2965-scaled-1-300x200-1.jpg
END:VEVENT
BEGIN:VEVENT
DTSTART;TZID=America/Los_Angeles:20230319T080000
DTEND;TZID=America/Los_Angeles:20230319T160000
DTSTAMP:20260421T190335
CREATED:20230221T001507Z
LAST-MODIFIED:20230315T020306Z
UID:10000013-1679212800-1679241600@schnepffarms.com
SUMMARY:Farm & Bakery
DESCRIPTION:The Farm Park\, Bakery & Country Store is OPEN! \nYou don’t have to wait for a festival to stop in for fresh baked goodies\, pick from the garden\, or to take a train ride. Stop in and relax any Thursday through Sunday. Open every month except August. (During the month of October\, we charge an admission due to the PUMPKIN & CHILI Party\, our premier Farm Festival.) \nIt’s free to come visit \n8am-4pm \nWhat you can do? \n\nTake a train ride\nvisit the UPICK Garden\nEnjoy Breakfast & Lunch (Breakfast 8am to 3pm; lunch begins at 11am)\nVisit the Museum\nShop in the bakery & Country Store\nVisit the petting zoo\nJump on the pillows\nplay on the Ropes Course\nHave fun at the shooting gallery
URL:https://schnepffarms.com/event/farm-bakery/2023-03-19/
LOCATION:Schnepf Farms
CATEGORIES:Featured,Fresh,Fun
ATTACH;FMTTYPE=image/jpeg:https://schnepffarms.com/wp-content/uploads/2023/02/MG_2965-scaled-1-300x200-1.jpg
END:VEVENT
BEGIN:VEVENT
DTSTART;TZID=America/Los_Angeles:20230323T080000
DTEND;TZID=America/Los_Angeles:20230323T160000
DTSTAMP:20260421T190335
CREATED:20230221T001507Z
LAST-MODIFIED:20230315T020306Z
UID:10000014-1679558400-1679587200@schnepffarms.com
SUMMARY:Farm & Bakery
DESCRIPTION:The Farm Park\, Bakery & Country Store is OPEN! \nYou don’t have to wait for a festival to stop in for fresh baked goodies\, pick from the garden\, or to take a train ride. Stop in and relax any Thursday through Sunday. Open every month except August. (During the month of October\, we charge an admission due to the PUMPKIN & CHILI Party\, our premier Farm Festival.) \nIt’s free to come visit \n8am-4pm \nWhat you can do? \n\nTake a train ride\nvisit the UPICK Garden\nEnjoy Breakfast & Lunch (Breakfast 8am to 3pm; lunch begins at 11am)\nVisit the Museum\nShop in the bakery & Country Store\nVisit the petting zoo\nJump on the pillows\nplay on the Ropes Course\nHave fun at the shooting gallery
URL:https://schnepffarms.com/event/farm-bakery/2023-03-23/
LOCATION:Schnepf Farms
CATEGORIES:Featured,Fresh,Fun
ATTACH;FMTTYPE=image/jpeg:https://schnepffarms.com/wp-content/uploads/2023/02/MG_2965-scaled-1-300x200-1.jpg
END:VEVENT
BEGIN:VEVENT
DTSTART;TZID=America/Los_Angeles:20230324T080000
DTEND;TZID=America/Los_Angeles:20230324T160000
DTSTAMP:20260421T190335
CREATED:20230221T001507Z
LAST-MODIFIED:20230315T020306Z
UID:10000015-1679644800-1679673600@schnepffarms.com
SUMMARY:Farm & Bakery
DESCRIPTION:The Farm Park\, Bakery & Country Store is OPEN! \nYou don’t have to wait for a festival to stop in for fresh baked goodies\, pick from the garden\, or to take a train ride. Stop in and relax any Thursday through Sunday. Open every month except August. (During the month of October\, we charge an admission due to the PUMPKIN & CHILI Party\, our premier Farm Festival.) \nIt’s free to come visit \n8am-4pm \nWhat you can do? \n\nTake a train ride\nvisit the UPICK Garden\nEnjoy Breakfast & Lunch (Breakfast 8am to 3pm; lunch begins at 11am)\nVisit the Museum\nShop in the bakery & Country Store\nVisit the petting zoo\nJump on the pillows\nplay on the Ropes Course\nHave fun at the shooting gallery
URL:https://schnepffarms.com/event/farm-bakery/2023-03-24/
LOCATION:Schnepf Farms
CATEGORIES:Featured,Fresh,Fun
ATTACH;FMTTYPE=image/jpeg:https://schnepffarms.com/wp-content/uploads/2023/02/MG_2965-scaled-1-300x200-1.jpg
END:VEVENT
BEGIN:VEVENT
DTSTART;TZID=America/Los_Angeles:20230325T080000
DTEND;TZID=America/Los_Angeles:20230325T160000
DTSTAMP:20260421T190335
CREATED:20230221T001507Z
LAST-MODIFIED:20230315T020306Z
UID:10000016-1679731200-1679760000@schnepffarms.com
SUMMARY:Farm & Bakery
DESCRIPTION:The Farm Park\, Bakery & Country Store is OPEN! \nYou don’t have to wait for a festival to stop in for fresh baked goodies\, pick from the garden\, or to take a train ride. Stop in and relax any Thursday through Sunday. Open every month except August. (During the month of October\, we charge an admission due to the PUMPKIN & CHILI Party\, our premier Farm Festival.) \nIt’s free to come visit \n8am-4pm \nWhat you can do? \n\nTake a train ride\nvisit the UPICK Garden\nEnjoy Breakfast & Lunch (Breakfast 8am to 3pm; lunch begins at 11am)\nVisit the Museum\nShop in the bakery & Country Store\nVisit the petting zoo\nJump on the pillows\nplay on the Ropes Course\nHave fun at the shooting gallery
URL:https://schnepffarms.com/event/farm-bakery/2023-03-25/
LOCATION:Schnepf Farms
CATEGORIES:Featured,Fresh,Fun
ATTACH;FMTTYPE=image/jpeg:https://schnepffarms.com/wp-content/uploads/2023/02/MG_2965-scaled-1-300x200-1.jpg
END:VEVENT
BEGIN:VEVENT
DTSTART;TZID=America/Los_Angeles:20230326T080000
DTEND;TZID=America/Los_Angeles:20230326T160000
DTSTAMP:20260421T190335
CREATED:20230221T001507Z
LAST-MODIFIED:20230315T020306Z
UID:10000017-1679817600-1679846400@schnepffarms.com
SUMMARY:Farm & Bakery
DESCRIPTION:The Farm Park\, Bakery & Country Store is OPEN! \nYou don’t have to wait for a festival to stop in for fresh baked goodies\, pick from the garden\, or to take a train ride. Stop in and relax any Thursday through Sunday. Open every month except August. (During the month of October\, we charge an admission due to the PUMPKIN & CHILI Party\, our premier Farm Festival.) \nIt’s free to come visit \n8am-4pm \nWhat you can do? \n\nTake a train ride\nvisit the UPICK Garden\nEnjoy Breakfast & Lunch (Breakfast 8am to 3pm; lunch begins at 11am)\nVisit the Museum\nShop in the bakery & Country Store\nVisit the petting zoo\nJump on the pillows\nplay on the Ropes Course\nHave fun at the shooting gallery
URL:https://schnepffarms.com/event/farm-bakery/2023-03-26/
LOCATION:Schnepf Farms
CATEGORIES:Featured,Fresh,Fun
ATTACH;FMTTYPE=image/jpeg:https://schnepffarms.com/wp-content/uploads/2023/02/MG_2965-scaled-1-300x200-1.jpg
END:VEVENT
BEGIN:VEVENT
DTSTART;TZID=America/Los_Angeles:20230330T080000
DTEND;TZID=America/Los_Angeles:20230330T160000
DTSTAMP:20260421T190335
CREATED:20230221T001507Z
LAST-MODIFIED:20230315T020306Z
UID:10000018-1680163200-1680192000@schnepffarms.com
SUMMARY:Farm & Bakery
DESCRIPTION:The Farm Park\, Bakery & Country Store is OPEN! \nYou don’t have to wait for a festival to stop in for fresh baked goodies\, pick from the garden\, or to take a train ride. Stop in and relax any Thursday through Sunday. Open every month except August. (During the month of October\, we charge an admission due to the PUMPKIN & CHILI Party\, our premier Farm Festival.) \nIt’s free to come visit \n8am-4pm \nWhat you can do? \n\nTake a train ride\nvisit the UPICK Garden\nEnjoy Breakfast & Lunch (Breakfast 8am to 3pm; lunch begins at 11am)\nVisit the Museum\nShop in the bakery & Country Store\nVisit the petting zoo\nJump on the pillows\nplay on the Ropes Course\nHave fun at the shooting gallery
URL:https://schnepffarms.com/event/farm-bakery/2023-03-30/
LOCATION:Schnepf Farms
CATEGORIES:Featured,Fresh,Fun
ATTACH;FMTTYPE=image/jpeg:https://schnepffarms.com/wp-content/uploads/2023/02/MG_2965-scaled-1-300x200-1.jpg
END:VEVENT
BEGIN:VEVENT
DTSTART;TZID=America/Los_Angeles:20230331T080000
DTEND;TZID=America/Los_Angeles:20230331T160000
DTSTAMP:20260421T190335
CREATED:20230221T001507Z
LAST-MODIFIED:20230315T020306Z
UID:10000019-1680249600-1680278400@schnepffarms.com
SUMMARY:Farm & Bakery
DESCRIPTION:The Farm Park\, Bakery & Country Store is OPEN! \nYou don’t have to wait for a festival to stop in for fresh baked goodies\, pick from the garden\, or to take a train ride. Stop in and relax any Thursday through Sunday. Open every month except August. (During the month of October\, we charge an admission due to the PUMPKIN & CHILI Party\, our premier Farm Festival.) \nIt’s free to come visit \n8am-4pm \nWhat you can do? \n\nTake a train ride\nvisit the UPICK Garden\nEnjoy Breakfast & Lunch (Breakfast 8am to 3pm; lunch begins at 11am)\nVisit the Museum\nShop in the bakery & Country Store\nVisit the petting zoo\nJump on the pillows\nplay on the Ropes Course\nHave fun at the shooting gallery
URL:https://schnepffarms.com/event/farm-bakery/2023-03-31/
LOCATION:Schnepf Farms
CATEGORIES:Featured,Fresh,Fun
ATTACH;FMTTYPE=image/jpeg:https://schnepffarms.com/wp-content/uploads/2023/02/MG_2965-scaled-1-300x200-1.jpg
END:VEVENT
END:VCALENDAR