BEGIN:VCALENDAR
VERSION:2.0
PRODID:-//Schnepf Farms - ECPv6.15.20//NONSGML v1.0//EN
CALSCALE:GREGORIAN
METHOD:PUBLISH
X-WR-CALNAME:Schnepf Farms
X-ORIGINAL-URL:https://schnepffarms.com
X-WR-CALDESC:Events for Schnepf Farms
REFRESH-INTERVAL;VALUE=DURATION:PT1H
X-Robots-Tag:noindex
X-PUBLISHED-TTL:PT1H
BEGIN:VTIMEZONE
TZID:UTC
BEGIN:STANDARD
TZOFFSETFROM:+0000
TZOFFSETTO:+0000
TZNAME:UTC
DTSTART:20230101T000000
END:STANDARD
END:VTIMEZONE
BEGIN:VEVENT
DTSTART;TZID=UTC:20240528T073000
DTEND;TZID=UTC:20240528T160000
DTSTAMP:20260421T100116
CREATED:20240531T181538Z
LAST-MODIFIED:20240531T181539Z
UID:10006684-1716881400-1716912000@schnepffarms.com
SUMMARY:Peach Picking
DESCRIPTION:Our UPICK Peach orchards will be open. We offer UPICK by reservation only. It allows us to keep the number of people picking limited so the peaches are allowed to fully ripen. These are free tickets\, just sign up HERE.  The Reservation is FREE\, the cost for peaches is the same as last year $3.85lb \nN
URL:https://schnepffarms.com/event/peach-picking-4/
LOCATION:Schnepf Farms
CATEGORIES:Featured,Fresh
ATTACH;FMTTYPE=image/jpeg:https://schnepffarms.com/wp-content/uploads/2023/05/peaches-resize.jpg
END:VEVENT
END:VCALENDAR