BEGIN:VCALENDAR
VERSION:2.0
PRODID:-//Schnepf Farms - ECPv6.15.20//NONSGML v1.0//EN
CALSCALE:GREGORIAN
METHOD:PUBLISH
X-ORIGINAL-URL:https://schnepffarms.com
X-WR-CALDESC:Events for Schnepf Farms
REFRESH-INTERVAL;VALUE=DURATION:PT1H
X-Robots-Tag:noindex
X-PUBLISHED-TTL:PT1H
BEGIN:VTIMEZONE
TZID:UTC
BEGIN:STANDARD
TZOFFSETFROM:+0000
TZOFFSETTO:+0000
TZNAME:UTC
DTSTART:20220101T000000
END:STANDARD
END:VTIMEZONE
BEGIN:VEVENT
DTSTART;TZID=UTC:20231219T170000
DTEND;TZID=UTC:20231219T220000
DTSTAMP:20260421T211706
CREATED:20231109T151217Z
LAST-MODIFIED:20231109T151847Z
UID:10006062-1703005200-1703023200@schnepffarms.com
SUMMARY:Christmas at Schnepf Farms
DESCRIPTION:Enjoy Christmas on the farm through the entire month. This is Schnepf Farms 2nd premier event and it is sure to get you in the Christmas spirit. Once you enter the farm you will be transformed into a magical experience. Your admission ticket includes: \n\nWinter Wonderland where snow falls throughout the evening\nOversized light displays for incredible photo opportunities\nPinecone decorating\nHayrides out to visit Santa’s Reindeer\nPrancer’s Petting zoo where you can pet newborn sheep\, pigs\, goats and fawns\nSnow globe mini golf\nSanta’s bounce houses and giant obstacle course\nSpend time writing your letters to Santa\nVisit Santa at his country home.\nSlide down the giant slide\nChristmas carousel rides\nEnjoy the Christmas carolers\nPlenty of Food trucks and eats along the way\nChristmas Campfires – We also have ones you can rent for private parties!\nIce Skating on “real” Ice!\nVisit the Sweet Shoppe\nToy Shoppe and Santa’s Work shoppe\n\nEXTRA COSTS: Food\, Gifts and Illumination Train Ride! \nBUNDLE UP\, IT’S GET CHILLY!
URL:https://schnepffarms.com/event/christmas-at-schnepf-farms/2023-12-19/
CATEGORIES:Featured,Fun
END:VEVENT
END:VCALENDAR